BEGIN:VCALENDAR
VERSION:2.0
PRODID:-//Arts4All - ECPv6.13.2.1//NONSGML v1.0//EN
CALSCALE:GREGORIAN
METHOD:PUBLISH
X-ORIGINAL-URL:https://theartsforall.org
X-WR-CALDESC:Events for Arts4All
REFRESH-INTERVAL;VALUE=DURATION:PT1H
X-Robots-Tag:noindex
X-PUBLISHED-TTL:PT1H
BEGIN:VTIMEZONE
TZID:UTC
BEGIN:STANDARD
TZOFFSETFROM:+0000
TZOFFSETTO:+0000
TZNAME:UTC
DTSTART:20160101T000000
END:STANDARD
END:VTIMEZONE
BEGIN:VEVENT
DTSTART;VALUE=DATE:20161224
DTEND;VALUE=DATE:20161225
DTSTAMP:20260424T035811
CREATED:20161119T205450Z
LAST-MODIFIED:20161119T205450Z
UID:232-1482537600-1482623999@theartsforall.org
SUMMARY:Field Trip Cinderella
DESCRIPTION:Time TBD
URL:https://theartsforall.org/event/field-trip-cinderella/
LOCATION:FL
END:VEVENT
END:VCALENDAR