BEGIN:VCALENDAR
VERSION:2.0
PRODID:-//Arts4All - ECPv6.13.2.1//NONSGML v1.0//EN
CALSCALE:GREGORIAN
METHOD:PUBLISH
X-ORIGINAL-URL:https://theartsforall.org
X-WR-CALDESC:Events for Arts4All
REFRESH-INTERVAL;VALUE=DURATION:PT1H
X-Robots-Tag:noindex
X-PUBLISHED-TTL:PT1H
BEGIN:VTIMEZONE
TZID:UTC
BEGIN:STANDARD
TZOFFSETFROM:+0000
TZOFFSETTO:+0000
TZNAME:UTC
DTSTART:20170101T000000
END:STANDARD
END:VTIMEZONE
BEGIN:VEVENT
DTSTART;TZID=UTC:20170311T090000
DTEND;TZID=UTC:20170311T130000
DTSTAMP:20260423T233016
CREATED:20170305T160955Z
LAST-MODIFIED:20170305T161801Z
UID:255-1489222800-1489237200@theartsforall.org
SUMMARY:Cooper City Founders Day
DESCRIPTION:
URL:https://theartsforall.org/event/cooper-city-founders-day/
LOCATION:Cooper City City Hall\, 9090 SW 50th Pl\, Cooper City\, FL\, 33328\, United States
CATEGORIES:Fundraisers
ATTACH;FMTTYPE=image/jpeg:https://theartsforall.org/wp-content/uploads/2017/03/יפוי-כח-דוד-001.jpg
END:VEVENT
END:VCALENDAR