BEGIN:VCALENDAR
VERSION:2.0
PRODID:-//Arts4All - ECPv6.13.2.1//NONSGML v1.0//EN
CALSCALE:GREGORIAN
METHOD:PUBLISH
X-WR-CALNAME:Arts4All
X-ORIGINAL-URL:https://theartsforall.org
X-WR-CALDESC:Events for Arts4All
REFRESH-INTERVAL;VALUE=DURATION:PT1H
X-Robots-Tag:noindex
X-PUBLISHED-TTL:PT1H
BEGIN:VTIMEZONE
TZID:UTC
BEGIN:STANDARD
TZOFFSETFROM:+0000
TZOFFSETTO:+0000
TZNAME:UTC
DTSTART:20160101T000000
END:STANDARD
END:VTIMEZONE
BEGIN:VEVENT
DTSTART;TZID=UTC:20200222T140000
DTEND;TZID=UTC:20200223T170000
DTSTAMP:20260423T220715
CREATED:20191230T072558Z
LAST-MODIFIED:20191230T072900Z
UID:768-1582380000-1582477200@theartsforall.org
SUMMARY:Peter Pan: A Musical Adventure
DESCRIPTION:Come see one of the three viewings. Tickets are available online or call 954-237-6021.
URL:https://theartsforall.org/event/peter-pan-a-musical-adventure/
LOCATION:Inna’s Hall of Fame\, 8685 Stirling Rd\, Cooper City\, FL\, 33328\, United States
CATEGORIES:Performances
ATTACH;FMTTYPE=image/png:https://theartsforall.org/wp-content/uploads/2019/12/peterpan.png
END:VEVENT
BEGIN:VEVENT
DTSTART;TZID=UTC:20170707T180000
DTEND;TZID=UTC:20170707T200000
DTSTAMP:20260423T220715
CREATED:20170617T120935Z
LAST-MODIFIED:20170617T121018Z
UID:368-1499450400-1499457600@theartsforall.org
SUMMARY:Beauty and the Beast
DESCRIPTION:Inna’s Hall of Fame Theatre Camp proudly presents “Beauty and the Beast” on July 6th and 7th at 6 pm. \nTickets are $10 for Adults and $5 for Children.\nCome join us!
URL:https://theartsforall.org/event/beauty-and-the-beast-2/
LOCATION:Community Black Box Theater\, FL\, United States
CATEGORIES:Performances
ATTACH;FMTTYPE=image/jpeg:https://theartsforall.org/wp-content/uploads/2017/06/Tales-of-Beauty-and-the-Beast-Poster-e1497700917782.jpg
END:VEVENT
BEGIN:VEVENT
DTSTART;TZID=UTC:20170706T180000
DTEND;TZID=UTC:20170706T200000
DTSTAMP:20260423T220715
CREATED:20170617T114755Z
LAST-MODIFIED:20170617T120814Z
UID:363-1499364000-1499371200@theartsforall.org
SUMMARY:Beauty and the Beast
DESCRIPTION:Inna’s Hall of Fame Theatre Camp proudly presents “Beauty and the Beast” on July 6th and 7th at 6 pm.\nTickets are $10 for Adults and $5 for Children.\nCome join us!
URL:https://theartsforall.org/event/beauty-and-the-beast/
LOCATION:Community Black Box Theater\, FL\, United States
CATEGORIES:Performances
ATTACH;FMTTYPE=image/jpeg:https://theartsforall.org/wp-content/uploads/2017/06/Tales-of-Beauty-and-the-Beast-Poster-e1497700917782.jpg
END:VEVENT
BEGIN:VEVENT
DTSTART;TZID=UTC:20170521T170000
DTEND;TZID=UTC:20170521T190000
DTSTAMP:20260423T220715
CREATED:20170227T233120Z
LAST-MODIFIED:20170227T233120Z
UID:248-1495386000-1495393200@theartsforall.org
SUMMARY:Lion King
DESCRIPTION:Contact us for more information on what will be an amazing performance. \n 
URL:https://theartsforall.org/event/lion-king/
LOCATION:Miramar Cultural Center\, 2400 Civic Center Place\, Mirimar\, FL\, 30025\, United States
CATEGORIES:Performances
END:VEVENT
BEGIN:VEVENT
DTSTART;TZID=UTC:20161204T170000
DTEND;TZID=UTC:20161204T190000
DTSTAMP:20260423T220715
CREATED:20161119T205203Z
LAST-MODIFIED:20161119T205203Z
UID:223-1480870800-1480878000@theartsforall.org
SUMMARY:NARNIA Show
DESCRIPTION:Don’t Miss this Classic – An extraordinary performance by our students! \nTickets‬ are available to buy at the office:\nAdults $10 & Child $5
URL:https://theartsforall.org/event/narnia-show-3/
LOCATION:Rose and Alfred Miniaci Performing Arts Center
CATEGORIES:Performances
END:VEVENT
BEGIN:VEVENT
DTSTART;TZID=UTC:20161202T170000
DTEND;TZID=UTC:20161202T190000
DTSTAMP:20260423T220715
CREATED:20161119T204957Z
LAST-MODIFIED:20161119T204957Z
UID:221-1480698000-1480705200@theartsforall.org
SUMMARY:NARNIA Show
DESCRIPTION:Don’t Miss this Classic – An extraordinary performance by our students! \nTickets‬ are available to buy at the office:\nAdults $10 & Child $5
URL:https://theartsforall.org/event/narnia-show-2/
LOCATION:Community Black Box Theater\, FL\, United States
CATEGORIES:Performances
END:VEVENT
BEGIN:VEVENT
DTSTART;TZID=UTC:20161201T170000
DTEND;TZID=UTC:20161201T190000
DTSTAMP:20260423T220715
CREATED:20161119T204040Z
LAST-MODIFIED:20161119T204256Z
UID:217-1480611600-1480618800@theartsforall.org
SUMMARY:NARNIA Show
DESCRIPTION:Don’t Miss this Classic – An extraordinary performance by our students! \nTickets‬ are available to buy at the office:\nAdults $10 & Child $5
URL:https://theartsforall.org/event/narnia-show/
LOCATION:Community Black Box Theater\, FL\, United States
CATEGORIES:Performances
END:VEVENT
END:VCALENDAR