BEGIN:VCALENDAR
VERSION:2.0
PRODID:-//Arts4All - ECPv6.13.2.1//NONSGML v1.0//EN
CALSCALE:GREGORIAN
METHOD:PUBLISH
X-ORIGINAL-URL:https://theartsforall.org
X-WR-CALDESC:Events for Arts4All
REFRESH-INTERVAL;VALUE=DURATION:PT1H
X-Robots-Tag:noindex
X-PUBLISHED-TTL:PT1H
BEGIN:VTIMEZONE
TZID:America/New_York
BEGIN:DAYLIGHT
TZOFFSETFROM:-0500
TZOFFSETTO:-0400
TZNAME:EDT
DTSTART:20170312T070000
END:DAYLIGHT
BEGIN:STANDARD
TZOFFSETFROM:-0400
TZOFFSETTO:-0500
TZNAME:EST
DTSTART:20171105T060000
END:STANDARD
END:VTIMEZONE
BEGIN:VTIMEZONE
TZID:UTC
BEGIN:STANDARD
TZOFFSETFROM:+0000
TZOFFSETTO:+0000
TZNAME:UTC
DTSTART:20190101T000000
END:STANDARD
END:VTIMEZONE
BEGIN:VEVENT
DTSTART;TZID=America/New_York:20171104T150000
DTEND;TZID=America/New_York:20171104T180000
DTSTAMP:20260423T220935
CREATED:20171019T141023Z
LAST-MODIFIED:20171019T142644Z
UID:407-1509807600-1509818400@theartsforall.org
SUMMARY:Tea and Fashion Show Fundraiser by Avon
DESCRIPTION:Arts-4-All and Avon are teaming up for a fun-filled afternoon to support the arts! Your donation and purchase proceeds benefit Arts-4-All scholarship fund and enrichment programs. \nEnjoy original artworks and live performances from some of Broward’s best up and coming musicians\, dancers\, and actors from Inna’s Hall of Fame Performing Arts Conservatory. Avon top selling products will be available for purchase. Enjoy sipping tea and a delightful buffet followed by an Avon fashion show featuring fall apparel and accessories! Proceeds will benefit the scholarship fund and enrichment programs from Arts-4-All. \nThis event is by invitation only. Get your invitation by supporting Arts-4-All with a min $35 donation. \nIf you or your business would like to help sponsor the event\, please reach out to Elizabeth Rios for marketing benefits! \n  \n 
URL:https://theartsforall.org/event/tea-and-fashion-show-fundraiser-by-avon/
LOCATION:Inna’s Hall of Fame\, 8685 Stirling Rd\, Cooper City\, FL\, 33328\, United States
CATEGORIES:Fundraisers
ATTACH;FMTTYPE=image/png:https://theartsforall.org/wp-content/uploads/2017/10/TeaPartyInvitation.png
END:VEVENT
BEGIN:VEVENT
DTSTART;TZID=UTC:20191114T190000
DTEND;TZID=UTC:20191114T200000
DTSTAMP:20260423T220935
CREATED:20191230T071436Z
LAST-MODIFIED:20191230T071436Z
UID:765-1573758000-1573761600@theartsforall.org
SUMMARY:Board Meeting
DESCRIPTION:Are you Energetic and Passionate? \nWe want YOU to Join our Board! \nRSVP 11/05/19\nCall 954-237-6021
URL:https://theartsforall.org/event/board-meeting/
LOCATION:Inna’s Hall of Fame\, 8685 Stirling Rd\, Cooper City\, FL\, 33328\, United States
CATEGORIES:Meetings
ATTACH;FMTTYPE=image/jpeg:https://theartsforall.org/wp-content/uploads/2019/12/board-meeting.jpg
END:VEVENT
BEGIN:VEVENT
DTSTART;TZID=UTC:20200222T140000
DTEND;TZID=UTC:20200223T170000
DTSTAMP:20260423T220935
CREATED:20191230T072558Z
LAST-MODIFIED:20191230T072900Z
UID:768-1582380000-1582477200@theartsforall.org
SUMMARY:Peter Pan: A Musical Adventure
DESCRIPTION:Come see one of the three viewings. Tickets are available online or call 954-237-6021.
URL:https://theartsforall.org/event/peter-pan-a-musical-adventure/
LOCATION:Inna’s Hall of Fame\, 8685 Stirling Rd\, Cooper City\, FL\, 33328\, United States
CATEGORIES:Performances
ATTACH;FMTTYPE=image/png:https://theartsforall.org/wp-content/uploads/2019/12/peterpan.png
END:VEVENT
END:VCALENDAR