BEGIN:VCALENDAR
VERSION:2.0
PRODID:-//Arts4All - ECPv6.13.2.1//NONSGML v1.0//EN
CALSCALE:GREGORIAN
METHOD:PUBLISH
X-WR-CALNAME:Arts4All
X-ORIGINAL-URL:https://theartsforall.org
X-WR-CALDESC:Events for Arts4All
REFRESH-INTERVAL;VALUE=DURATION:PT1H
X-Robots-Tag:noindex
X-PUBLISHED-TTL:PT1H
BEGIN:VTIMEZONE
TZID:UTC
BEGIN:STANDARD
TZOFFSETFROM:+0000
TZOFFSETTO:+0000
TZNAME:UTC
DTSTART:20160101T000000
END:STANDARD
END:VTIMEZONE
BEGIN:VEVENT
DTSTART;TZID=UTC:20161101T090000
DTEND;TZID=UTC:20161101T100000
DTSTAMP:20260423T235038
CREATED:20161101T090019Z
LAST-MODIFIED:20161111T205922Z
UID:135-1477990800-1477994400@theartsforall.org
SUMMARY:Arts 4 All Meeting
DESCRIPTION:
URL:https://theartsforall.org/event/arts-4-all-meeting/
CATEGORIES:Meetings
ATTACH;FMTTYPE=image/jpeg:https://theartsforall.org/wp-content/uploads/2016/11/logo2.jpg
END:VEVENT
END:VCALENDAR